8.000000000
0.000000
0.000000
-8.000000000
524798.81493234
159853.88079073
