8.000000000
0.000000
0.000000
-8.000000000
524605.61947384
159530.75768488
