8.000000000
0.000000
0.000000
-8.000000000
524609.88433828
159531.32329824
