8.000000000
0.000000
0.000000
-8.000000000
524590.72255698
159531.24809330
