8.000000000
0.000000
0.000000
-8.000000000
524598.99425278
159528.67684966
