8.000000000
0.000000
0.000000
-8.000000000
524602.59417197
159527.08896535
