8.000000000
0.000000
0.000000
-8.000000000
523333.79801638
158967.08429467
