8.000000000
0.000000
0.000000
-8.000000000
523334.69313606
158987.76280747
