8.000000000
0.000000
0.000000
-8.000000000
523330.37417110
158982.87555079
