8.000000000
0.000000
0.000000
-8.000000000
523334.31036008
158956.88753832
