8.000000000
0.000000
0.000000
-8.000000000
523329.70340719
158963.12065751
