8.000000000
0.000000
0.000000
-8.000000000
523328.80592378
158959.42618313
