8.000000000
0.000000
0.000000
-8.000000000
522832.78560547
158795.44724672
