8.000000000
0.000000
0.000000
-8.000000000
522838.90456245
158808.03170062
