8.000000000
0.000000
0.000000
-8.000000000
522841.95054744
158813.24329719
