8.000000000
0.000000
0.000000
-8.000000000
522846.29029694
158802.68993643
