8.000000000
0.000000
0.000000
-8.000000000
522841.45926831
158807.99982207
