8.000000000
0.000000
0.000000
-8.000000000
522833.59381779
158809.02437442
