8.000000000
0.000000
0.000000
-8.000000000
522834.44538627
158809.01374737
