8.000000000
0.000000
0.000000
-8.000000000
522812.58188948
159053.23897185
