8.000000000
0.000000
0.000000
-8.000000000
522812.42296598
159057.56416333
