8.000000000
0.000000
0.000000
-8.000000000
522837.14056242
159059.10845613
