8.000000000
0.000000
0.000000
-8.000000000
522832.24424485
159059.16956111
