8.000000000
0.000000
0.000000
-8.000000000
522793.65696267
159890.63450469
