8.000000000
0.000000
0.000000
-8.000000000
522783.67980504
159892.92071878
