8.000000000
0.000000
0.000000
-8.000000000
522811.09174049
159888.87279392
