8.000000000
0.000000
0.000000
-8.000000000
522812.84083301
159892.55657113
