8.000000000
0.000000
0.000000
-8.000000000
522808.83900789
159896.00334937
