8.000000000
0.000000
0.000000
-8.000000000
522859.16308647
158452.04116207
