8.000000000
0.000000
0.000000
-8.000000000
522862.56956016
158451.99866891
