8.000000000
0.000000
0.000000
-8.000000000
522865.79779002
158454.73760095
