8.000000000
0.000000
0.000000
-8.000000000
522861.75645575
158455.09681160
