8.000000000
0.000000
0.000000
-8.000000000
522864.24353617
158244.77304756
