8.000000000
0.000000
0.000000
-8.000000000
522848.80217736
158236.01047612
