8.000000000
0.000000
0.000000
-8.000000000
522878.29956911
158244.90653908
