8.000000000
0.000000
0.000000
-8.000000000
522880.91226578
158249.50595407
