8.000000000
0.000000
0.000000
-8.000000000
522902.66510753
158235.02993277
