8.000000000
0.000000
0.000000
-8.000000000
522816.31429860
158192.25749888
