8.000000000
0.000000
0.000000
-8.000000000
522812.34986710
158198.79177644
