8.000000000
0.000000
0.000000
-8.000000000
522807.80451426
158209.96530553
