8.000000000
0.000000
0.000000
-8.000000000
522833.44189343
158165.48697131
