8.000000000
0.000000
0.000000
-8.000000000
522605.62221113
158763.70073483
