8.000000000
0.000000
0.000000
-8.000000000
522594.57879467
158766.00057617
