8.000000000
0.000000
0.000000
-8.000000000
522594.54400831
158763.22180777
