8.000000000
0.000000
0.000000
-8.000000000
521810.85990423
158670.25221369
