8.000000000
0.000000
0.000000
-8.000000000
521813.77222256
158647.98172195
