8.000000000
0.000000
0.000000
-8.000000000
521809.77011893
158651.42914554
