8.000000000
0.000000
0.000000
-8.000000000
521201.73635393
158592.44845150
