8.000000000
0.000000
0.000000
-8.000000000
521202.22512370
158597.38303977
