8.000000000
0.000000
0.000000
-8.000000000
521200.95166229
158597.70807388
